BEGIN:VCALENDAR
VERSION:2.0
PRODID:icalendar-ruby
CALSCALE:GREGORIAN
METHOD:PUBLISH
BEGIN:VEVENT
DTSTAMP:20260423T221314Z
UID:151-641427@stjohnslutheranfolcroft.org
DTSTART:20261018T130000Z
DTEND:20261018T140000Z
CLASS:PUBLIC
CREATED:20260423T153827
DESCRIPTION:
LAST-MODIFIED:20260423T153827
LOCATION:@St. John's
SUMMARY:St. John's Choir Practice
URL;VALUE=URI:https://www.stjohnslutheranfolcroft.org/events/st-johns-choir
 -practice/2026-10-18
END:VEVENT
END:VCALENDAR
