BEGIN:VCALENDAR
VERSION:2.0
PRODID:icalendar-ruby
CALSCALE:GREGORIAN
METHOD:PUBLISH
BEGIN:VEVENT
DTSTAMP:20260423T184053Z
UID:151-640994@stjohnslutheranfolcroft.org
DTSTART:20260927T130000Z
DTEND:20260927T140000Z
CLASS:PUBLIC
CREATED:20260423T124130
DESCRIPTION:
LAST-MODIFIED:20260423T124130
LOCATION:@St. John's
SUMMARY:St. John's Choir Practice
URL;VALUE=URI:https://www.stjohnslutheranfolcroft.org/events/st-johns-choir
 -practice/2026-09-27
END:VEVENT
END:VCALENDAR
