BEGIN:VCALENDAR
VERSION:2.0
PRODID:icalendar-ruby
CALSCALE:GREGORIAN
METHOD:PUBLISH
BEGIN:VEVENT
DTSTAMP:20260423T143106Z
UID:151-640561@stjohnslutheranfolcroft.org
DTSTART:20260906T130000Z
DTEND:20260906T140000Z
CLASS:PUBLIC
CREATED:20260423T094812
DESCRIPTION:
LAST-MODIFIED:20260423T094812
LOCATION:@St. John's
SUMMARY:St. John's Choir Practice
URL;VALUE=URI:https://www.stjohnslutheranfolcroft.org/events/st-johns-choir
 -practice/2026-09-06
END:VEVENT
END:VCALENDAR
