BEGIN:VCALENDAR
VERSION:2.0
PRODID:icalendar-ruby
CALSCALE:GREGORIAN
METHOD:PUBLISH
BEGIN:VEVENT
DTSTAMP:20260423T125020Z
UID:151-640130@stjohnslutheranfolcroft.org
DTSTART:20260830T130000Z
DTEND:20260830T140000Z
CLASS:PUBLIC
CREATED:20260423T065303
DESCRIPTION:
LAST-MODIFIED:20260423T065303
LOCATION:@St. John's
SUMMARY:St. John's Choir Practice
URL;VALUE=URI:https://www.stjohnslutheranfolcroft.org/events/st-johns-choir
 -practice/2026-08-30
END:VEVENT
END:VCALENDAR
