BEGIN:VCALENDAR
VERSION:2.0
PRODID:icalendar-ruby
CALSCALE:GREGORIAN
METHOD:PUBLISH
BEGIN:VEVENT
DTSTAMP:20260423T112131Z
UID:151-640129@stjohnslutheranfolcroft.org
DTSTART:20260823T130000Z
DTEND:20260823T140000Z
CLASS:PUBLIC
CREATED:20260423T065303
DESCRIPTION:
LAST-MODIFIED:20260423T065303
LOCATION:@St. John's
SUMMARY:St. John's Choir Practice
URL;VALUE=URI:https://www.stjohnslutheranfolcroft.org/events/st-johns-choir
 -practice/2026-08-23
END:VEVENT
END:VCALENDAR
