BEGIN:VCALENDAR
VERSION:2.0
PRODID:icalendar-ruby
CALSCALE:GREGORIAN
METHOD:PUBLISH
BEGIN:VEVENT
DTSTAMP:20260423T095400Z
UID:151-639698@stjohnslutheranfolcroft.org
DTSTART:20260816T130000Z
DTEND:20260816T140000Z
CLASS:PUBLIC
CREATED:20260422T212354
DESCRIPTION:
LAST-MODIFIED:20260422T212354
LOCATION:@St. John's
SUMMARY:St. John's Choir Practice
URL;VALUE=URI:https://www.stjohnslutheranfolcroft.org/events/st-johns-choir
 -practice/2026-08-16
END:VEVENT
END:VCALENDAR
